Package: methylMnM Version: 1.47.0 Command: /home/biocbuild/R/R/bin/R CMD INSTALL methylMnM StartedAt: 2025-07-14 20:11:50 -0000 (Mon, 14 Jul 2025) EndedAt: 2025-07-14 20:12:30 -0000 (Mon, 14 Jul 2025) EllapsedTime: 40.3 seconds RetCode: 0 Status: OK