Package: methylMnM Version: 1.47.0 Command: /home/biocbuild/R/R/bin/R CMD build --keep-empty-dirs --no-resave-data methylMnM StartedAt: 2025-07-15 00:55:29 -0000 (Tue, 15 Jul 2025) EndedAt: 2025-07-15 00:57:23 -0000 (Tue, 15 Jul 2025) EllapsedTime: 114.0 seconds RetCode: 0 Status: OK PackageFile: methylMnM_1.47.0.tar.gz PackageFileSize: 8.501 MiB