Package: methylMnM Version: 1.47.0 Command: chmod a+r methylMnM -R && F:\biocbuild\bbs-3.22-bioc\R\bin\R.exe CMD build --keep-empty-dirs --no-resave-data methylMnM StartedAt: 2025-07-20 20:13:56 -0400 (Sun, 20 Jul 2025) EndedAt: 2025-07-20 20:15:25 -0400 (Sun, 20 Jul 2025) EllapsedTime: 88.7 seconds RetCode: 0 Status: OK PackageFile: methylMnM_1.47.0.tar.gz PackageFileSize: 8.41 MiB