Package: methylMnM Version: 1.47.0 Command: rm -rf methylMnM.buildbin-libdir && mkdir methylMnM.buildbin-libdir && F:\biocbuild\bbs-3.22-bioc\R\bin\R.exe CMD INSTALL --build --library=methylMnM.buildbin-libdir methylMnM_1.47.0.tar.gz StartedAt: 2025-07-21 09:26:54 -0400 (Mon, 21 Jul 2025) EndedAt: 2025-07-21 09:27:25 -0400 (Mon, 21 Jul 2025) EllapsedTime: 31.2 seconds RetCode: 0 Status: OK PackageFile: methylMnM_1.47.0.zip PackageFileSize: 8.502 MiB