Package: methylMnM Version: 1.47.0 Command: /Library/Frameworks/R.framework/Resources/bin/R CMD INSTALL methylMnM StartedAt: 2025-07-01 15:18:59 -0400 (Tue, 01 Jul 2025) EndedAt: 2025-07-01 15:19:26 -0400 (Tue, 01 Jul 2025) EllapsedTime: 28.0 seconds RetCode: 0 Status: OK