Package: methylMnM Version: 1.47.0 Command: /Library/Frameworks/R.framework/Resources/bin/R CMD check --install=check:methylMnM.install-out.txt --library=/Library/Frameworks/R.framework/Resources/library --no-vignettes --timings methylMnM_1.47.0.tar.gz StartedAt: 2025-07-01 21:53:46 -0400 (Tue, 01 Jul 2025) EndedAt: 2025-07-01 21:54:27 -0400 (Tue, 01 Jul 2025) EllapsedTime: 40.1 seconds RetCode: 0 Status: OK CheckDir: methylMnM.Rcheck Warnings: 0