Package: methylMnM Version: 1.47.0 Command: /Library/Frameworks/R.framework/Resources/bin/R CMD build --keep-empty-dirs --no-resave-data methylMnM StartedAt: 2025-07-01 17:36:37 -0400 (Tue, 01 Jul 2025) EndedAt: 2025-07-01 17:37:46 -0400 (Tue, 01 Jul 2025) EllapsedTime: 69.4 seconds RetCode: 0 Status: OK PackageFile: methylMnM_1.47.0.tar.gz PackageFileSize: 8.508 MiB