Package: methylMnM Version: 1.47.0 Command: /Library/Frameworks/R.framework/Resources/bin/R CMD INSTALL methylMnM StartedAt: 2025-07-15 15:01:55 -0400 (Tue, 15 Jul 2025) EndedAt: 2025-07-15 15:02:00 -0400 (Tue, 15 Jul 2025) EllapsedTime: 5.4 seconds RetCode: 0 Status: OK