Package: methylKit Version: 1.35.0 Command: F:\biocbuild\bbs-3.22-bioc\R\bin\R.exe CMD INSTALL methylKit StartedAt: 2025-07-07 16:25:31 -0400 (Mon, 07 Jul 2025) EndedAt: 2025-07-07 16:28:10 -0400 (Mon, 07 Jul 2025) EllapsedTime: 159.2 seconds RetCode: 0 Status: OK