Package: methylKit Version: 1.35.0 Command: rm -rf methylKit.buildbin-libdir && mkdir methylKit.buildbin-libdir && F:\biocbuild\bbs-3.22-bioc\R\bin\R.exe CMD INSTALL --build --library=methylKit.buildbin-libdir methylKit_1.35.0.tar.gz StartedAt: 2025-07-08 09:19:17 -0400 (Tue, 08 Jul 2025) EndedAt: 2025-07-08 09:21:45 -0400 (Tue, 08 Jul 2025) EllapsedTime: 147.9 seconds RetCode: 0 Status: OK PackageFile: methylKit_1.35.0.zip PackageFileSize: 7.394 MiB