Package: methylKit Version: 1.35.0 Maintainer: Altuna Akalin , Alexander Blume MaintainerEmail: alex.gos90 at gmail.com git_url: https://git.bioconductor.org/packages/methylKit git_branch: devel git_last_commit: 6bc3419 git_last_commit_date: 2025-04-15 11:03:34 -0400 (Tue, 15 Apr 2025)