############################################################################## ############################################################################## ### ### Running command: ### ### /home/biocbuild/R/R/bin/R CMD INSTALL methylInheritance ### ############################################################################## ############################################################################## * installing to library ‘/home/biocbuild/R/R-4.5.0/site-library’ * installing *source* package ‘methylInheritance’ ... ** this is package ‘methylInheritance’ version ‘1.33.0’ ** using staged installation ** R ** data ** inst ** byte-compile and prepare package for lazy loading No methods found in package ‘GenomeInfoDb’ for request: ‘seqlengths’ when loading ‘methylKit’ No methods found in package ‘GenomeInfoDb’ for request: ‘seqlevels’ when loading ‘methylKit’ No methods found in package ‘GenomeInfoDb’ for request: ‘seqnames’ when loading ‘methylKit’ No methods found in package ‘GenomeInfoDb’ for request: ‘sortSeqlevels’ when loading ‘methylKit’ ** help *** installing help indices ** building package indices ** installing vignettes ** testing if installed package can be loaded from temporary location No methods found in package ‘GenomeInfoDb’ for request: ‘seqlengths’ when loading ‘methylKit’ No methods found in package ‘GenomeInfoDb’ for request: ‘seqlevels’ when loading ‘methylKit’ No methods found in package ‘GenomeInfoDb’ for request: ‘seqnames’ when loading ‘methylKit’ No methods found in package ‘GenomeInfoDb’ for request: ‘sortSeqlevels’ when loading ‘methylKit’ ** testing if installed package can be loaded from final location No methods found in package ‘GenomeInfoDb’ for request: ‘seqlengths’ when loading ‘methylKit’ No methods found in package ‘GenomeInfoDb’ for request: ‘seqlevels’ when loading ‘methylKit’ No methods found in package ‘GenomeInfoDb’ for request: ‘seqnames’ when loading ‘methylKit’ No methods found in package ‘GenomeInfoDb’ for request: ‘sortSeqlevels’ when loading ‘methylKit’ ** testing if installed package keeps a record of temporary installation path * DONE (methylInheritance)