Package: methylInheritance Version: 1.33.0 Command: /home/biocbuild/R/R/bin/R CMD check --install=check:methylInheritance.install-out.txt --library=/home/biocbuild/R/R/site-library --no-vignettes --timings methylInheritance_1.33.0.tar.gz StartedAt: 2025-07-01 09:11:46 -0000 (Tue, 01 Jul 2025) EndedAt: 2025-07-01 09:17:57 -0000 (Tue, 01 Jul 2025) EllapsedTime: 370.3 seconds RetCode: 1 Status: ERROR CheckDir: methylInheritance.Rcheck Warnings: NA