Package: methylInheritance Version: 1.33.0 Command: /home/biocbuild/R/R/bin/R CMD build --keep-empty-dirs --no-resave-data methylInheritance StartedAt: 2025-07-01 00:56:18 -0000 (Tue, 01 Jul 2025) EndedAt: 2025-07-01 00:57:59 -0000 (Tue, 01 Jul 2025) EllapsedTime: 101.0 seconds RetCode: 0 Status: OK PackageFile: methylInheritance_1.33.0.tar.gz PackageFileSize: 1.697 MiB