Package: methylInheritance Version: 1.33.0 Command: F:\biocbuild\bbs-3.22-bioc\R\bin\R.exe CMD INSTALL methylInheritance StartedAt: 2025-06-29 16:23:19 -0400 (Sun, 29 Jun 2025) EndedAt: 2025-06-29 16:24:39 -0400 (Sun, 29 Jun 2025) EllapsedTime: 80.3 seconds RetCode: 0 Status: OK