Package: methylInheritance Version: 1.33.0 Command: F:\biocbuild\bbs-3.22-bioc\R\bin\R.exe CMD check --no-multiarch --install=check:methylInheritance.install-out.txt --library=F:\biocbuild\bbs-3.22-bioc\R\library --no-vignettes --timings methylInheritance_1.33.0.tar.gz StartedAt: 2025-06-30 03:38:56 -0400 (Mon, 30 Jun 2025) EndedAt: 2025-06-30 03:44:50 -0400 (Mon, 30 Jun 2025) EllapsedTime: 354.2 seconds RetCode: 1 Status: ERROR CheckDir: methylInheritance.Rcheck Warnings: NA