Package: methylInheritance Version: 1.33.0 Command: chmod a+r methylInheritance -R && F:\biocbuild\bbs-3.22-bioc\R\bin\R.exe CMD build --keep-empty-dirs --no-resave-data methylInheritance StartedAt: 2025-06-29 20:13:46 -0400 (Sun, 29 Jun 2025) EndedAt: 2025-06-29 20:15:32 -0400 (Sun, 29 Jun 2025) EllapsedTime: 106.4 seconds RetCode: 0 Status: OK PackageFile: methylInheritance_1.33.0.tar.gz PackageFileSize: 1.671 MiB