Package: methylInheritance Version: 1.33.0 Command: rm -rf methylInheritance.buildbin-libdir && mkdir methylInheritance.buildbin-libdir && F:\biocbuild\bbs-3.22-bioc\R\bin\R.exe CMD INSTALL --build --library=methylInheritance.buildbin-libdir methylInheritance_1.33.0.tar.gz StartedAt: 2025-06-30 09:08:03 -0400 (Mon, 30 Jun 2025) EndedAt: 2025-06-30 09:09:05 -0400 (Mon, 30 Jun 2025) EllapsedTime: 61.8 seconds RetCode: 0 Status: OK PackageFile: methylInheritance_1.33.0.zip PackageFileSize: 1.8 MiB