Package: methylGSA Version: 1.27.0 Command: /Library/Frameworks/R.framework/Resources/bin/R CMD INSTALL methylGSA StartedAt: 2025-10-05 15:55:55 -0400 (Sun, 05 Oct 2025) EndedAt: 2025-10-05 15:56:32 -0400 (Sun, 05 Oct 2025) EllapsedTime: 36.6 seconds RetCode: 0 Status: OK