Package: methylCC Version: 1.23.0 Command: /home/biocbuild/R/R/bin/R CMD INSTALL methylCC StartedAt: 2025-07-14 21:05:43 -0000 (Mon, 14 Jul 2025) EndedAt: 2025-07-14 21:06:48 -0000 (Mon, 14 Jul 2025) EllapsedTime: 64.5 seconds RetCode: 0 Status: OK