Package: methylCC Version: 1.23.0 Command: /home/biocbuild/R/R/bin/R CMD build --keep-empty-dirs --no-resave-data methylCC StartedAt: 2025-07-15 00:53:27 -0000 (Tue, 15 Jul 2025) EndedAt: 2025-07-15 00:57:22 -0000 (Tue, 15 Jul 2025) EllapsedTime: 235.1 seconds RetCode: 0 Status: OK PackageFile: methylCC_1.23.0.tar.gz PackageFileSize: 4.387 MiB