Package: methylCC Version: 1.23.0 Command: F:\biocbuild\bbs-3.22-bioc\R\bin\R.exe CMD INSTALL methylCC StartedAt: 2025-07-24 17:04:21 -0400 (Thu, 24 Jul 2025) EndedAt: 2025-07-24 17:05:37 -0400 (Thu, 24 Jul 2025) EllapsedTime: 76.4 seconds RetCode: 0 Status: OK