Package: methylCC Version: 1.23.0 Command: /home/biocbuild/bbs-3.22-bioc/R/bin/R CMD INSTALL methylCC StartedAt: 2025-10-03 15:44:43 -0400 (Fri, 03 Oct 2025) EndedAt: 2025-10-03 15:45:32 -0400 (Fri, 03 Oct 2025) EllapsedTime: 48.9 seconds RetCode: 0 Status: OK