Package: methylCC Version: 1.23.0 Command: /home/biocbuild/bbs-3.22-bioc/R/bin/R CMD build --keep-empty-dirs --no-resave-data --md5 methylCC StartedAt: 2025-10-05 18:36:45 -0400 (Sun, 05 Oct 2025) EndedAt: 2025-10-05 18:40:18 -0400 (Sun, 05 Oct 2025) EllapsedTime: 212.1 seconds RetCode: 0 Status: OK PackageFile: methylCC_1.23.0.tar.gz PackageFileSize: 4.375 MiB