Package: methylCC Version: 1.23.0 Command: /Library/Frameworks/R.framework/Resources/bin/R CMD build --keep-empty-dirs --no-resave-data methylCC StartedAt: 2025-07-14 17:33:56 -0400 (Mon, 14 Jul 2025) EndedAt: 2025-07-14 17:37:42 -0400 (Mon, 14 Jul 2025) EllapsedTime: 226.1 seconds RetCode: 0 Status: OK PackageFile: methylCC_1.23.0.tar.gz PackageFileSize: 4.378 MiB