Package: methyLImp2 Version: 1.5.0 Command: rm -rf methyLImp2.buildbin-libdir && mkdir methyLImp2.buildbin-libdir && F:\biocbuild\bbs-3.22-bioc\R\bin\R.exe CMD INSTALL --build --library=methyLImp2.buildbin-libdir methyLImp2_1.5.0.tar.gz StartedAt: 2025-07-25 09:39:25 -0400 (Fri, 25 Jul 2025) EndedAt: 2025-07-25 09:39:58 -0400 (Fri, 25 Jul 2025) EllapsedTime: 32.6 seconds RetCode: 0 Status: OK PackageFile: methyLImp2_1.5.0.zip PackageFileSize: 1.298 MiB