Package: methodical Version: 1.5.0 Command: /home/biocbuild/bbs-3.22-bioc/R/bin/R CMD check --install=check:methodical.install-out.txt --library=/home/biocbuild/bbs-3.22-bioc/R/site-library --timings methodical_1.5.0.tar.gz StartedAt: 2025-10-06 01:33:34 -0400 (Mon, 06 Oct 2025) EndedAt: 2025-10-06 01:54:02 -0400 (Mon, 06 Oct 2025) EllapsedTime: 1227.0 seconds RetCode: 1 Status: ERROR CheckDir: methodical.Rcheck Warnings: NA