Package: methimpute Version: 1.31.0 Command: /home/biocbuild/R/R/bin/R CMD INSTALL methimpute StartedAt: 2025-07-14 20:28:36 -0000 (Mon, 14 Jul 2025) EndedAt: 2025-07-14 20:29:38 -0000 (Mon, 14 Jul 2025) EllapsedTime: 62.0 seconds RetCode: 0 Status: OK