Package: methimpute Version: 1.31.0 Command: /home/biocbuild/R/R/bin/R CMD check --install=check:methimpute.install-out.txt --library=/home/biocbuild/R/R/site-library --no-vignettes --timings methimpute_1.31.0.tar.gz StartedAt: 2025-07-15 09:14:06 -0000 (Tue, 15 Jul 2025) EndedAt: 2025-07-15 09:17:03 -0000 (Tue, 15 Jul 2025) EllapsedTime: 177.2 seconds RetCode: 0 Status: WARNINGS CheckDir: methimpute.Rcheck Warnings: 1