Package: methimpute Version: 1.31.0 Command: /home/biocbuild/R/R/bin/R CMD build --keep-empty-dirs --no-resave-data methimpute StartedAt: 2025-07-15 00:51:21 -0000 (Tue, 15 Jul 2025) EndedAt: 2025-07-15 00:54:11 -0000 (Tue, 15 Jul 2025) EllapsedTime: 170.1 seconds RetCode: 0 Status: OK PackageFile: methimpute_1.31.0.tar.gz PackageFileSize: 1.259 MiB