Package: methimpute Version: 1.31.0 Command: chmod a+r methimpute -R && F:\biocbuild\bbs-3.22-bioc\R\bin\R.exe CMD build --keep-empty-dirs --no-resave-data methimpute StartedAt: 2025-07-22 20:13:57 -0400 (Tue, 22 Jul 2025) EndedAt: 2025-07-22 20:17:04 -0400 (Tue, 22 Jul 2025) EllapsedTime: 187.7 seconds RetCode: 0 Status: OK PackageFile: methimpute_1.31.0.tar.gz PackageFileSize: 1.269 MiB