Package: methimpute Version: 1.31.0 Command: rm -rf methimpute.buildbin-libdir && mkdir methimpute.buildbin-libdir && F:\biocbuild\bbs-3.22-bioc\R\bin\R.exe CMD INSTALL --build --library=methimpute.buildbin-libdir methimpute_1.31.0.tar.gz StartedAt: 2025-07-23 09:31:19 -0400 (Wed, 23 Jul 2025) EndedAt: 2025-07-23 09:32:21 -0400 (Wed, 23 Jul 2025) EllapsedTime: 61.9 seconds RetCode: 0 Status: OK PackageFile: methimpute_1.31.0.zip PackageFileSize: 1.939 MiB