Package: methimpute Version: 1.31.0 Command: rm -rf methimpute.buildbin-libdir && mkdir methimpute.buildbin-libdir && /Users/biocbuild/BBS/utils/build-universal.sh methimpute_1.31.0.tar.gz /Library/Frameworks/R.framework/Resources/bin/R methimpute.buildbin-libdir StartedAt: 2025-07-03 00:52:40 -0400 (Thu, 03 Jul 2025) EndedAt: 2025-07-03 00:53:31 -0400 (Thu, 03 Jul 2025) EllapsedTime: 50.7 seconds RetCode: 0 Status: OK PackageFile: methimpute_1.31.0.tgz PackageFileSize: 1.522 MiB