Package: methimpute Version: 1.31.0 Command: rm -rf methimpute.buildbin-libdir && mkdir methimpute.buildbin-libdir && /Users/biocbuild/BBS/utils/build-universal.sh methimpute_1.31.0.tar.gz /Library/Frameworks/R.framework/Resources/bin/R methimpute.buildbin-libdir StartedAt: 2025-07-14 22:24:55 -0400 (Mon, 14 Jul 2025) EndedAt: 2025-07-14 22:25:11 -0400 (Mon, 14 Jul 2025) EllapsedTime: 15.3 seconds RetCode: 0 Status: OK PackageFile: methimpute_1.31.0.tgz PackageFileSize: 1.537 MiB