Package: metaseqR2 Version: 1.21.2 Command: /home/biocbuild/R/R/bin/R CMD check --install=check:metaseqR2.install-out.txt --library=/home/biocbuild/R/R/site-library --no-vignettes --timings metaseqR2_1.21.2.tar.gz StartedAt: 2025-10-17 10:51:44 -0000 (Fri, 17 Oct 2025) EndedAt: 2025-10-17 11:02:53 -0000 (Fri, 17 Oct 2025) EllapsedTime: 669.5 seconds RetCode: 0 Status: OK CheckDir: metaseqR2.Rcheck Warnings: 0