Package: metaseqR2 Version: 1.21.0 Command: chmod a+r metaseqR2 -R && F:\biocbuild\bbs-3.22-bioc\R\bin\R.exe CMD build --keep-empty-dirs --no-resave-data metaseqR2 StartedAt: 2025-06-29 20:11:32 -0400 (Sun, 29 Jun 2025) EndedAt: 2025-06-29 20:20:30 -0400 (Sun, 29 Jun 2025) EllapsedTime: 537.7 seconds RetCode: 0 Status: OK PackageFile: metaseqR2_1.21.0.tar.gz PackageFileSize: 2.68 MiB