Package: metaseqR2 Version: 1.21.0 Command: rm -rf metaseqR2.buildbin-libdir && mkdir metaseqR2.buildbin-libdir && F:\biocbuild\bbs-3.22-bioc\R\bin\R.exe CMD INSTALL --build --library=metaseqR2.buildbin-libdir metaseqR2_1.21.0.tar.gz StartedAt: 2025-06-30 09:07:23 -0400 (Mon, 30 Jun 2025) EndedAt: 2025-06-30 09:09:28 -0400 (Mon, 30 Jun 2025) EllapsedTime: 125.3 seconds RetCode: 0 Status: OK PackageFile: metaseqR2_1.21.0.zip PackageFileSize: 4.52 MiB