Package: metaseqR2 Version: 1.21.0 Command: /home/biocbuild/bbs-3.22-bioc/R/bin/R CMD check --install=check:metaseqR2.install-out.txt --library=/home/biocbuild/bbs-3.22-bioc/R/site-library --timings metaseqR2_1.21.0.tar.gz StartedAt: 2025-06-29 23:47:45 -0400 (Sun, 29 Jun 2025) EndedAt: 2025-06-30 00:03:23 -0400 (Mon, 30 Jun 2025) EllapsedTime: 937.8 seconds RetCode: 0 Status: OK CheckDir: metaseqR2.Rcheck Warnings: 0