Package: metaseqR2 Version: 1.21.0 Command: /Library/Frameworks/R.framework/Resources/bin/R CMD INSTALL metaseqR2 StartedAt: 2025-06-29 15:27:49 -0400 (Sun, 29 Jun 2025) EndedAt: 2025-06-29 15:28:18 -0400 (Sun, 29 Jun 2025) EllapsedTime: 29.6 seconds RetCode: 0 Status: OK