Package: metaseqR2 Version: 1.21.0 Command: /Library/Frameworks/R.framework/Resources/bin/R CMD build --keep-empty-dirs --no-resave-data metaseqR2 StartedAt: 2025-06-29 16:51:07 -0400 (Sun, 29 Jun 2025) EndedAt: 2025-06-29 16:54:16 -0400 (Sun, 29 Jun 2025) EllapsedTime: 189.1 seconds RetCode: 0 Status: OK PackageFile: metaseqR2_1.21.0.tar.gz PackageFileSize: 2.68 MiB