Package: metaseqR2 Version: 1.21.0 Command: rm -rf metaseqR2.buildbin-libdir && mkdir metaseqR2.buildbin-libdir && /Users/biocbuild/BBS/utils/build-universal.sh metaseqR2_1.21.0.tar.gz /Library/Frameworks/R.framework/Resources/bin/R metaseqR2.buildbin-libdir StartedAt: 2025-06-29 22:23:57 -0400 (Sun, 29 Jun 2025) EndedAt: 2025-06-29 22:24:29 -0400 (Sun, 29 Jun 2025) EllapsedTime: 32.6 seconds RetCode: 0 Status: OK PackageFile: metaseqR2_1.21.0.tgz PackageFileSize: 4.519 MiB