Package: metapone Version: 1.15.0 Command: /home/biocbuild/bbs-3.22-bioc/R/bin/R CMD INSTALL metapone StartedAt: 2025-06-29 15:12:49 -0400 (Sun, 29 Jun 2025) EndedAt: 2025-06-29 15:13:10 -0400 (Sun, 29 Jun 2025) EllapsedTime: 20.7 seconds RetCode: 0 Status: OK