Package: metapod Version: 1.17.0 Command: /Library/Frameworks/R.framework/Resources/bin/R CMD build --keep-empty-dirs --no-resave-data metapod StartedAt: 2025-07-22 17:25:12 -0400 (Tue, 22 Jul 2025) EndedAt: 2025-07-22 17:25:38 -0400 (Tue, 22 Jul 2025) EllapsedTime: 26.3 seconds RetCode: 0 Status: OK PackageFile: metapod_1.17.0.tar.gz PackageFileSize: 323.8 KiB