Package: metabinR Version: 1.11.0 Command: F:\biocbuild\bbs-3.22-bioc\R\bin\R.exe CMD INSTALL metabinR StartedAt: 2025-07-11 15:21:31 -0400 (Fri, 11 Jul 2025) EndedAt: 2025-07-11 15:21:42 -0400 (Fri, 11 Jul 2025) EllapsedTime: 10.9 seconds RetCode: 0 Status: OK