Package: metabinR Version: 1.11.0 Command: F:\biocbuild\bbs-3.22-bioc\R\bin\R.exe CMD check --no-multiarch --install=check:metabinR.install-out.txt --library=F:\biocbuild\bbs-3.22-bioc\R\library --no-vignettes --timings metabinR_1.11.0.tar.gz StartedAt: 2025-07-12 03:36:27 -0400 (Sat, 12 Jul 2025) EndedAt: 2025-07-12 03:37:42 -0400 (Sat, 12 Jul 2025) EllapsedTime: 74.8 seconds RetCode: 0 Status: OK CheckDir: metabinR.Rcheck Warnings: 0