Package: metabinR Version: 1.11.0 Command: chmod a+r metabinR -R && F:\biocbuild\bbs-3.22-bioc\R\bin\R.exe CMD build --keep-empty-dirs --no-resave-data metabinR StartedAt: 2025-07-11 20:08:59 -0400 (Fri, 11 Jul 2025) EndedAt: 2025-07-11 20:10:02 -0400 (Fri, 11 Jul 2025) EllapsedTime: 62.7 seconds RetCode: 0 Status: OK PackageFile: metabinR_1.11.0.tar.gz PackageFileSize: 4.355 MiB