Package: metabinR Version: 1.11.0 Command: rm -rf metabinR.buildbin-libdir && mkdir metabinR.buildbin-libdir && F:\biocbuild\bbs-3.22-bioc\R\bin\R.exe CMD INSTALL --build --library=metabinR.buildbin-libdir metabinR_1.11.0.tar.gz StartedAt: 2025-07-12 09:13:51 -0400 (Sat, 12 Jul 2025) EndedAt: 2025-07-12 09:14:02 -0400 (Sat, 12 Jul 2025) EllapsedTime: 10.9 seconds RetCode: 0 Status: OK PackageFile: metabinR_1.11.0.zip PackageFileSize: 4.335 MiB