Package: metaSeq Version: 1.49.0 Command: /home/biocbuild/R/R/bin/R CMD build --keep-empty-dirs --no-resave-data metaSeq StartedAt: 2025-07-15 00:51:04 -0000 (Tue, 15 Jul 2025) EndedAt: 2025-07-15 00:51:20 -0000 (Tue, 15 Jul 2025) EllapsedTime: 16.0 seconds RetCode: 0 Status: OK PackageFile: metaSeq_1.49.0.tar.gz PackageFileSize: 6.189 MiB