Package: metaSeq Version: 1.49.0 Command: /home/biocbuild/bbs-3.22-bioc/R/bin/R CMD INSTALL metaSeq StartedAt: 2025-07-11 15:11:38 -0400 (Fri, 11 Jul 2025) EndedAt: 2025-07-11 15:11:46 -0400 (Fri, 11 Jul 2025) EllapsedTime: 7.9 seconds RetCode: 0 Status: OK