Package: metaSeq Version: 1.49.0 Command: /Library/Frameworks/R.framework/Resources/bin/R CMD INSTALL metaSeq StartedAt: 2025-07-07 15:14:06 -0400 (Mon, 07 Jul 2025) EndedAt: 2025-07-07 15:14:25 -0400 (Mon, 07 Jul 2025) EllapsedTime: 18.7 seconds RetCode: 0 Status: OK